BEGIN:VCALENDAR
VERSION:2.0
PRODID:-//ddaysoftware.com//NONSGML DDay.iCal 1.0//EN
BEGIN:VTIMEZONE
TZID:W. Europe Standard Time
BEGIN:STANDARD
DTSTART:20251002T030000
RRULE:FREQ=YEARLY;BYDAY=-1SU;BYHOUR=3;BYMINUTE=0;BYMONTH=10
TZNAME:W. Europe Standard Time
TZOFFSETFROM:+0200
TZOFFSETTO:+0100
END:STANDARD
BEGIN:DAYLIGHT
DTSTART:20250301T020000
RRULE:FREQ=YEARLY;BYDAY=-1SU;BYHOUR=2;BYMINUTE=0;BYMONTH=3
TZNAME:W. Europe Daylight Time
TZOFFSETFROM:+0100
TZOFFSETTO:+0200
END:DAYLIGHT
END:VTIMEZONE
BEGIN:VEVENT
CATEGORIES:Umwelt
CATEGORIES:Fischereihof Salgen
DESCRIPTION:Im Fischereihof Salgen könnt ihr den Lehrbetrieb kennenlernen\,
  die Vielfalt heimischer Fische bewundern und an einer Bachsafari teilnehm
 en.\n\nVeranstalter: Bezirk Schwaben\, Fischereifachberatung\n\nhttps://ww
 w.bezirk-schwaben.de/bezirk/veranstaltungen-und-termine/veranstaltungskale
 nder/hallo-bezirk-tag-der-offenen-tuer-im-fischereihof-salgen-2025
DTEND:20250525T170000
DTSTAMP:20260421T084500Z
DTSTART:20250525T100000
LOCATION:Schwäbischer Fischereihof: Mörgener Str. 50\, 87775 Salgen
SEQUENCE:0
SUMMARY:Tag der offenen Tür im Schwäbischen Fischereihof Salgen
UID:52270
URL:https://www.bezirk-schwaben.de/bezirk/veranstaltungen-und-termine/veran
 staltungskalender/hallo-bezirk-tag-der-offenen-tuer-im-fischereihof-salgen
 -2025
END:VEVENT
END:VCALENDAR
