BEGIN:VCALENDAR
VERSION:2.0
PRODID:-//ddaysoftware.com//NONSGML DDay.iCal 1.0//EN
BEGIN:VTIMEZONE
TZID:W. Europe Standard Time
BEGIN:STANDARD
DTSTART:20251002T030000
RRULE:FREQ=YEARLY;BYDAY=-1SU;BYHOUR=3;BYMINUTE=0;BYMONTH=10
TZNAME:W. Europe Standard Time
TZOFFSETFROM:+0200
TZOFFSETTO:+0100
END:STANDARD
BEGIN:DAYLIGHT
DTSTART:20250301T020000
RRULE:FREQ=YEARLY;BYDAY=-1SU;BYHOUR=2;BYMINUTE=0;BYMONTH=3
TZNAME:W. Europe Daylight Time
TZOFFSETFROM:+0100
TZOFFSETTO:+0200
END:DAYLIGHT
END:VTIMEZONE
BEGIN:VEVENT
CATEGORIES:SoundOfSchwaben
CATEGORIES:Konzerte
CATEGORIES:Kultur
CATEGORIES:Sound of Schwaben Wohnzimmerkonzerte
DESCRIPTION:Künstlerinnen und Künstler aus Schwaben hautnah erleben – das e
 rmöglicht die neue Konzertreihe „Sound of Schwaben“.\n\nDie Konzerte finde
 n einmal im Monat statt. Im Billardsaal des Kurhauses Göggingen können Mus
 ikbegeisterte die Newcomerinnen und Newcomer in intimer Atmosphäre erleben
 .\n\nVeranstalter: Popkultur Schwaben\, Stadt Augsburg\n\nhttps://www.bezi
 rk-schwaben.de/bezirk/veranstaltungen-und-termine/veranstaltungskalender/s
 ound-of-schwaben-konzert-mit-ceci-und-daniel-avens
DTEND:20260425T210000
DTSTAMP:20260420T023812Z
DTSTART:20260425T200000
LOCATION:Parktheater im Kurhaus Göggingen: Klausenberg 6\, 86199 Augsburg
SEQUENCE:0
SUMMARY:Sound of Schwaben Konzert mit CECI und Daniel Avens
UID:57333
URL:https://www.bezirk-schwaben.de/bezirk/veranstaltungen-und-termine/veran
 staltungskalender/sound-of-schwaben-konzert-mit-ceci-und-daniel-avens
END:VEVENT
END:VCALENDAR
