Workbook

Sheet Erfassung SpDi KD-Einsätze
A5: Jahresauswertung | C5: Bitte wählen | P5: =IF(A14="","",A14)
A7: Vermittlung neuer Klienten
A8: Anzahl neuer Klienten
A9: Vermittlung durch die Leitstelle
A11: Erfassung KD-Einsätze mobiler Tagdienst (SpDi)
A13: Datum | B13: Art | C13: abgesagter Einsatz | D13: Einsatzregion | F13: Beginn des Einsatzes | G13: Einsatzdauer in Minuten vorOrt | H13: Fahrzeit | I13: Doku | J13: eingesetze Gesamt- arbeitszeit | K13: Kooperationen / Vermittlung | N13: Psychiatrisch | O13: Psychosozial | P13: Art der Krise
E14: =IF(D14="","",VLOOKUP(D14,Auswahl!$D$2:$E$8,2,TRUE)) | J14: =IF(H14="","",(G14*2+H14)+I14)
E15: =IF(D15="","",VLOOKUP(D15,Auswahl!$D$2:$E$8,2,TRUE)) | J15: =IF(H15="","",(G15*2+H15)+I15)
E16: =IF(D16="","",VLOOKUP(D16,Auswahl!$D$2:$E$8,2,TRUE)) | J16: =IF(H16="","",(G16*2+H16)+I16)
E17: =IF(D17="","",VLOOKUP(D17,Auswahl!$D$2:$E$8,2,TRUE)) | J17: =IF(H17="","",(G17*2+H17)+I17)
E18: =IF(D18="","",VLOOKUP(D18,Auswahl!$D$2:$E$8,2,TRUE)) | J18: =IF(H18="","",(G18*2+H18)+I18)
E19: =IF(D19="","",VLOOKUP(D19,Auswahl!$D$2:$E$8,2,TRUE)) | J19: =IF(H19="","",(G19*2+H19)+I19)
E20: =IF(D20="","",VLOOKUP(D20,Auswahl!$D$2:$E$8,2,TRUE)) | J20: =IF(H20="","",(G20*2+H20)+I20)
E21: =IF(D21="","",VLOOKUP(D21,Auswahl!$D$2:$E$8,2,TRUE)) | J21: =IF(H21="","",(G21*2+H21)+I21)
E22: =IF(D22="","",VLOOKUP(D22,Auswahl!$D$2:$E$8,2,TRUE)) | J22: =IF(H22="","",(G22*2+H22)+I22)
E23: =IF(D23="","",VLOOKUP(D23,Auswahl!$D$2:$E$8,2,TRUE)) | J23: =IF(H23="","",(G23*2+H23)+I23)
E24: =IF(D24="","",VLOOKUP(D24,Auswahl!$D$2:$E$8,2,TRUE)) | J24: =IF(H24="","",(G24*2+H24)+I24)
E25: =IF(D25="","",VLOOKUP(D25,Auswahl!$D$2:$E$8,2,TRUE)) | J25: =IF(H25="","",(G25*2+H25)+I25)
... E65: =IF(D65="","",VLOOKUP(D65,Auswahl!$D$2:$E$8,2,TRUE)) | J65: =IF(H65="","",(G65*2+H65)+I65)

Sheet Auswahl
A1: SpDi | B1: Art | C1: abgesagter Einsatz | D1: Einsatzregion | F1: Kooperationen
A2: SpDi Aichach | B2: Einsatz | C2: ja | D2: 1 | E2: LK Donauwörth, Dillingen | F2: Notfallambulanz
A3: SpDi Augsburg | B3: Nachsorge | C3: nein | D3: 2 | E3: LK Günzburg, Neu-Ulm | F3: Psychiatr. Klinik
A4: SpDi Schwabmünchen | D4: 3 | E4: LK Unterallgäu, Stadt Memmingen | F4: Notarzt
A5: SpDi Dillingen | D5: 4 | E5: LK Oberallgäu und Lindau, Stadt Kempten | F5: Facharzt Psychiatrie
A6: SpDi Donauwörth | D6: 5 | E6: LK Augsburg Nord, Stadt Augsburg | F6: PIA
A7: SpDi Günzburg | D7: 6 | E7: LK Augsburg Süd-West, Aichach-Friedberg | F7: Jugendamt
A8: SpDi Neu-Ulm | D8: 7 | E8: LK Ostallgäu, Stadt Kaufbeuren | F8: Kreisverwaltungsbehörde / Ordnungsamt
A9: SpDi Füssen | F9: Polizei
A10: SpDi Immenstadt | F10: SpDi
A11: SpDi Kaufbeuren | F11: Sonstiges
A12: SpDi Kempten
A13: SpDi Lindenberg
A14: SpDi Memmingen
A15: SpDi Mindelheim
A16: Bitte wählen
