Workbook
Name Instandhaltung: #REF!
Name InstandhaltungEinrichtung: #REF!
Name InstandhaltungWäsche: #REF!
Name InstandsetzungMietvertrag: #REF!
Name Plätzetatsächlich: [1]Einrichtungsdaten!$G$30
Name Summeabschreibungen: '[1]Abschreibungen-Finanzierung'!$M$1
Name SummeFinanzierung: '[1]Abschreibungen-Finanzierung'!$M$9
Name SummeInstandhaltung: [1]Instandsetzungsaufwendungen!$N$1
Name SummeMieten: '[1]Mieten-Pachten'!$L$1
Name SummeTilgung: Investberechnung!$G$19
Name SummeWiederbeschaffungohneFörderung: [2]Instandsetzungsaufwendungen!$G$24
Name SummewiederbeschaffungswertmitFörderung: [2]Instandsetzungsaufwendungen!$H$24
Name SummeZinsen: Investberechnung!$I$19
Name Tilgungsreste: Investberechnung!$L$19

Sheet Personal
A1: Personalaufwand der Tagesstätte in | H1: Jahr
A3: Genehmigte Plätze
B5: SOLL | D5: IST
B6: Quote | C6: VZÄ | D6: Quote | E6: VZÄ
A7: Fachkräfte | B7: 0.7 | C7: =IF($B$3="","",IF($B$3>15,$B$3*(1/6),2.5)*B7) | D7: =IF(E7=0,"",E7/(E7+E8)) | E7: =H24 -> 0
A8: (Qualifizierte) Unterstützungskräfte | B8: 0.3 | C8: =IF($B$3="","",IF($B$3>15,$B$3*(1/6),2.5)*B8) | D8: =IF(E8=0,"",E8/(E8+E7)) | E8: =H32 -> 0
A10: zusätzliche Zuverdienstkräfte | E10: =H38 -> 0
A11: Verwaltungskräfte | C11: =IF($B$3="","",IF($B$3>24.9,0.6,0.5)) | E11: =H43 -> 0
A13: Wochenarbeitszeit | B13: 39
A15: Vorname | B15: Nachname | C15: Berufliche Qualifikation | D15: Beschäftigungszeitraum | F15: Gesamt-monate | G15: Wochen-Std. | H15: VZÄ
D16: von | E16: bis
A17: Fachkräfte | H17: =IF(B7<D7,C7,E7)
H18: =IF(G18="","",ROUND((PRODUCT($F18/12,$G18/$B$13)),2))
H19: =IF(G19="","",ROUND((PRODUCT($F19/12,$G19/$B$13)),2))
H20: =IF(G20="","",ROUND((PRODUCT($F20/12,$G20/$B$13)),2))
H21: =IF(G21="","",ROUND((PRODUCT($F21/12,$G21/$B$13)),2))
H22: =IF(G22="","",ROUND((PRODUCT($F22/12,$G22/$B$13)),2))
H23: =IF(G23="","",ROUND((PRODUCT($F23/12,$G23/$B$13)),2))
A24: Summe | H24: =SUM(H18:H23) -> 0
A26: (Qualifizierte) Unterstützungskräfte, inkl. Genesungsbegleitung, Werksstudenten | H26: =IF(B8<D8,C8,E8)
H27: =IF(G27="","",ROUND((PRODUCT($F27/12,$G27/$B$13)),2))
H28: =IF(G28="","",ROUND((PRODUCT($F28/12,$G28/$B$13)),2))
H29: =IF(G29="","",ROUND((PRODUCT($F29/12,$G29/$B$13)),2))
H30: =IF(G30="","",ROUND((PRODUCT($F30/12,$G30/$B$13)),2))
H31: =IF(G31="","",ROUND((PRODUCT($F31/12,$G31/$B$13)),2))
A32: Summe | H32: =SUM(H27:H31)+(H48/3) -> 0
A34: Zuverdienstkräfte | H34: =IF(C10="","",C10)
H35: =IF(G35="","",ROUND((PRODUCT($F35/12,$G35/$B$13)),2))
H36: =IF(G36="","",ROUND((PRODUCT($F36/12,$G36/$B$13)),2))
H37: =IF(G37="","",ROUND((PRODUCT($F37/12,$G37/$B$13)),2))
A38: Summe | H38: =SUM(H35:H37) -> 0
A40: Verwaltungskräfte | H40: =C11
H41: =IF(G41="","",ROUND((PRODUCT($F41/12,$G41/$B$13)),2))
H42: =IF(G42="","",ROUND((PRODUCT($F42/12,$G42/$B$13)),2))
A43: Summe | H43: =SUM(H41:H42) -> 0
A45: Studentische Hilfskräfte, Praktikanten, Duale Studenten
H46: =IF(G46="","",ROUND((PRODUCT($F46/12,$G46/$B$13)),2))
H47: =IF(G47="","",ROUND((PRODUCT($F47/12,$G47/$B$13)),2))
A48: Summe* | H48: =SUM(H46:H47) -> 0
A51: * Wert wird zu 1/3 bei den (qualifizierten) Unterstützungskräften berücksichtigt
...

Sheet Sachkosten
A1: Sachaufwand | B1: Jahr
B3: in €
A4: Lebensmittel
A5: z.B. entstandenen Kosten Lebensmittel und Getränke für den täglichen Gebrauch
A7: Steuern, Abg., Versicherungen
A8: z.B. Müllgebühren, Haftpflicht, Berufsgenossenschaft, KFZ Steuer und Versicherungen, s. ggf. "Fuhrpark"
A10: Beiträge für Verbandsumlagen
A11: z.B. Vertreter für Bezirk-, Landes- und Bundesebene
A13: Energie, Wasser, Brennstoffe
A14: z.B. verbrauchsabhängiger Aufwand
A16: Wirtschaftsbedarf
A17: z.B. Hausverbrauchsmaterial (Glühbirnen, Reinigungsmittel, Toilettenartikel)
A19: Verwaltungsbedarf
A20: z.B. Büromaterial vor Ort, Porto, Sachkosten in der Verwaltung, EDV Verwaltung in Tagesstätte, Telefonanlage
... A41: z.B. Anteilige Kosten für: Zentrale Dienste, Lohnabrechnung, EDV, Arbeitssicherheit, Betriebsrat, Geschäftsführung, QM, Datensicherheit, Reinigung, Hausmeister
A43: Sonstiges (nähere Bezeichnung) | B43: =SUM(B45:B54) -> 0
A44: Bezeichnung | B44: in €
A56: Summe Sachkosten | B56: =B4+B7+B10+B13+B16+B19+B22+B28+B31+B34+B40+B43+B37+B25 -> 0
A60: "Grau hinterlegte Felder" können beschrieben werden.

Sheet Einnahmen
A1: Einnahmen | B1: Jahr
B3: in €
A4: Eigenanteil der Besuchenden
A5: z.B. Mittagsessenverkauf, Eigenanteil Ausflüge
A7: Einnahmen aus wirtschaftlichem Bereich
A8: z.B. Verkauf, Zuverdienst
A10: Sonstiges (nähere Bezeichnung) | B10: =SUM(B12:B21) -> 0
A11: Bezeichnung | B11: in €
A12: z.B. Spenden
A23: Summe Einnahmen | B23: =B4+B7+B10 -> 0
A27: "Grau hinterlegte Felder" können beschrieben werden.

Sheet Investberechnung
A1: Investitionsbetrag Tagesstätte in | D1: =IF(Personal!C1="","",Personal!C1) | G1: genehmigte Platzzahl | H1: =IF(Personal!B3="","",Personal!B3) | K1: Jahr
A3: Anpassung der Baukostenrichtzahl auf 27,8 (Eurobasis) ab 01.01.2027
A5: Vorzulegende Unterlagen für die Berechnung der Investitionskosten:
A6: 1.) Instandsetzungsaufwendungen
A7: - Brandversicherungsurkunde
A8: - Förderbescheid und Jahr der Inbetriebnahme
A9: 2.) Mieten-Pachten
A10: - Mieten, Mietvertrag und Nachweis aktueller Miethöhe
A11: - Pachten, Pachtvertrag und Nachweis aktueller Pachthöhe
A12: 3.) Abschreibungen-Finanzierung
A13: - Nachweis Darlehen mit aktueller Restschuld und Zinssatz
A14: - Eigenkapital, Förderbescheid und Jahr der Inbetriebnahme
A16: 1. | B16: Instandsetzungsaufwendungen Tagesstätte | K16: =IF(H1="",0,K39+K42+K45+K47) -> 0
A17: 1.1. | B17: Instandsetzungsaufwendungen für Gebäude | F17: 1% (für die ersten 10 Jahre) und 1,5 % (ab dem 11. Jahr )
B18: Gebäudebezeichnung | C18: 50% Förderung & <25 Jahre nur relevant für die Berechnung der Abschreibungen | D18: Stammversicherungssumme der Brandversicherung | F18: BKZ | G18: Wiederbeschaffungswert in Euro ohne Förderung | H18: Wiederbeschaffungswert in Euro mit Förderung | I18: 0.01 | J18: 0.015
D19: Datum des Bescheides | E19: Wert 1914 in Mark | F19: 27.8
F20: =$F$19 -> 27.8 | G20: =IF(C20="x",0,E20*F20) -> 0 | H20: =IF(C20<>"x",0,E20*F20) -> 0 | K20: =IF(I20="x",(G20+H20)*1%,IF(J20="x",(G20+H20)*1.5%,0)) -> 0
F21: =$F$19 -> 27.8 | G21: =IF(C21="x",0,E21*F21) -> 0 | H21: =IF(C21<>"x",0,E21*F21) -> 0 | K21: =IF(I21="x",(G21+H21)*1%,IF(J21="x",(G21+H21)*1.5%,0)) -> 0
F22: =$F$19 -> 27.8 | G22: =IF(C22="x",0,E22*F22) -> 0 | H22: =IF(C22<>"x",0,E22*F22) -> 0 | K22: =IF(I22="x",(G22+H22)*1%,IF(J22="x",(G22+H22)*1.5%,0)) -> 0
F23: =$F$19 -> 27.8 | G23: =IF(C23="x",0,E23*F23) -> 0 | H23: =IF(C23<>"x",0,E23*F23) -> 0 | K23: =IF(I23="x",(G23+H23)*1%,IF(J23="x",(G23+H23)*1.5%,0)) -> 0
F24: =$F$19 -> 27.8 | G24: =IF(C24="x",0,E24*F24) -> 0 | H24: =IF(C24<>"x",0,E24*F24) -> 0 | K24: =IF(I24="x",(G24+H24)*1%,IF(J24="x",(G24+H24)*1.5%,0)) -> 0
F25: =$F$19 -> 27.8 | G25: =IF(C25="x",0,E25*F25) -> 0 | H25: =IF(C25<>"x",0,E25*F25) -> 0 | K25: =IF(I25="x",(G25+H25)*1%,IF(J25="x",(G25+H25)*1.5%,0)) -> 0
F26: =$F$19 -> 27.8 | G26: =IF(C26="x",0,E26*F26) -> 0 | H26: =IF(C26<>"x",0,E26*F26) -> 0 | K26: =IF(I26="x",(G26+H26)*1%,IF(J26="x",(G26+H26)*1.5%,0)) -> 0
F27: =$F$19 -> 27.8 | G27: =IF(C27="x",0,E27*F27) -> 0 | H27: =IF(C27<>"x",0,E27*F27) -> 0 | K27: =IF(I27="x",(G27+H27)*1%,IF(J27="x",(G27+H27)*1.5%,0)) -> 0
F28: =$F$19 -> 27.8 | G28: =IF(C28="x",0,E28*F28) -> 0 | H28: =IF(C28<>"x",0,E28*F28) -> 0 | K28: =IF(I28="x",(G28+H28)*1%,IF(J28="x",(G28+H28)*1.5%,0)) -> 0
F29: =$F$19 -> 27.8 | G29: =IF(C29="x",0,E29*F29) -> 0 | H29: =IF(C29<>"x",0,E29*F29) -> 0 | K29: =IF(I29="x",(G29+H29)*1%,IF(J29="x",(G29+H29)*1.5%,0)) -> 0
F30: =$F$19 -> 27.8 | G30: =IF(C30="x",0,E30*F30) -> 0 | H30: =IF(C30<>"x",0,E30*F30) -> 0 | K30: =IF(I30="x",(G30+H30)*1%,IF(J30="x",(G30+H30)*1.5%,0)) -> 0
F31: =$F$19 -> 27.8 | G31: =IF(C31="x",0,E31*F31) -> 0 | H31: =IF(C31<>"x",0,E31*F31) -> 0 | K31: =IF(I31="x",(G31+H31)*1%,IF(J31="x",(G31+H31)*1.5%,0)) -> 0
... F38: =$F$19 -> 27.8 | G38: =IF(C38="x",0,E38*F38) -> 0 | H38: =IF(C38<>"x",0,E38*F38) -> 0 | K38: =IF(I38="x",(G38+H38)*1%,IF(J38="x",(G38+H38)*1.5%,0)) -> 0
D39: Summe | E39: =SUM(E20:E36) -> 0 | G39: =SUM(G20:G24) -> 0 | H39: =SUM(H20:H36) -> 0 | K39: =SUM(K20:K36) -> 0
A41: 1.2. | E41: Instandsetzungsaufwendungen für Einrichtung | F41: Platzzahl | G41: Faktor
F42: =H1 | G42: 57.52 | K42: =IF($H$1="","",$F$42*$G$42)
F43: Wert | G43: =IF($H$1="","",$F$42*$G$42)
A44: 1.3. | E44: Instandsetzungsaufwendungen für Wäsche und Geschirr | F44: Platzzahl | G44: Faktor
F45: =H1 | G45: 57.52 | K45: =IF($H$1="","",$F$45*$G$45)
F46: Wert | G46: =IF($H$1="","",$F$45*$G$45)
E47: Instandsetzungspauschale für Gebäude lt. Mietvetrag von der Einrichtung angesetzt jährlich: | K47: 0
A52: 2. | B52: Mieten/Pacht | K52: =SUM(K54:K71) -> 0
B53: Objekt | D53: Monatsmiete/Monatspacht
K54: =D54*12 -> 0
...

Sheet Angaben
G1: SOLL
A2: Träger | B2: Straße Hausnummer | C2: PLZ | D2: Orz | F2: TS | G2: Platzzahl | H2: Betreuungspersonal | I2: FK | J2: HK | K2: Zuverdienst | L2: Verwaltung | M2: Wochenarbeitszeit | Q2: Verwaltung
A3: CV | B3: =Tabelle1!D2 -> Münchener Str. 19 | C3: =Tabelle1!E2 -> 86551 | D3: =Tabelle1!F2 -> Aichach | E3: AIC CV | F3: Aichach | G3: 17 | H3: =IF(G3>15,G3*$S$6,$R$12) -> 2.8333333 | I3: =H3*$S$7 -> 1.9833333 | J3: =H3*$S$8 -> 0.85 | K3: 0.25 | L3: =IF(G3>25,$Q$3,$Q$4) -> 0.5 | M3: 39 | P3: >25 Plätze | Q3: 0.6
A4: LMZ | B4: =Tabelle1!D6 -> Hofrat-Röhrer-Str. 10 ½ | C4: =Tabelle1!E3 -> 86161 | D4: =Tabelle1!F3 -> Augsburg | E4: AUX LMZ | F4: Augsburg Louise de Marillac Zentrum | G4: 20 | H4: =IF(G4>15,G4*$S$6,$R$12) -> 3.3333333 | I4: =H4*$S$7 -> 2.3333333 | J4: =H4*$S$8 -> 1 | K4: 0 | L4: =IF(G4>25,$Q$3,$Q$4) -> 0.5 | M4: 39 | P4: <25 Plätze | Q4: 0.5
A5: AWO | B5: =Tabelle1!D5 -> Kirchbergstr. 23 | C5: =Tabelle1!E4 -> 86153 | D5: =Tabelle1!F4 -> Augsburg | E5: AUX AWO | F5: Augsburg AWO | G5: 30.5 | H5: =IF(G5>15,G5*$S$6,$R$12) -> 5.0833333 | I5: =H5*$S$7 -> 3.5583333 | J5: =H5*$S$8 -> 1.525 | K5: 1 | L5: =IF(G5>25,$Q$3,$Q$4) -> 0.6 | M5: 37
A6: CV | B6: =Tabelle1!D3 -> Th.-Wiedemann-Str. 9 | C6: =Tabelle1!E5 -> 86157 | D6: =Tabelle1!F5 -> Augsburg | E6: AUX CV | F6: Augsburg CV | G6: 29 | H6: =IF(G6>15,G6*$S$6,$R$12) -> 4.8333333 | I6: =H6*$S$7 -> 3.3833333 | J6: =H6*$S$8 -> 1.45 | K6: 0.5 | L6: =IF(G6>25,$Q$3,$Q$4) -> 0.6 | M6: 39 | Q6: Quote | S6: =1/6 -> 0.16666667
A7: DW | B7: =Tabelle1!D4 -> Böheimstr. 6 | C7: =Tabelle1!E6 -> 86161 | D7: =Tabelle1!F6 -> Augsburg | E7: AUX DW | F7: Augsburg DW | G7: 30 | H7: =IF(G7>15,G7*$S$6,$R$12) -> 5 | I7: =H7*$S$7 -> 3.5 | J7: =H7*$S$8 -> 1.5 | K7: 0.5 | L7: =IF(G7>25,$Q$3,$Q$4) -> 0.6 | M7: 40 | Q7: Mindestfachkraftquote | S7: 0.7
A8: BKS | B8: Heilig-Kreuz-Str. 22 | C8: 86152 | D8: =Tabelle1!F7 -> Augsburg | E8: AUX BKS | F8: Augsburg Picasso | G8: 20 | H8: =IF(G8>15,G8*$S$6,$R$12) -> 3.3333333 | I8: =H8*$S$7 -> 2.3333333 | J8: =H8*$S$8 -> 1 | K8: 0 | L8: =IF(G8>25,$Q$3,$Q$4) -> 0.5 | M8: 38.5 | Q8: (Qualifizierte) Hilfskräfte | S8: 0.3
A9: CV | B9: =Tabelle1!D8 -> Am Reitweg 2 | C9: =Tabelle1!E8 -> 89407 | D9: =Tabelle1!F8 -> Dillingen | E9: DLG CV | F9: Dillingen | G9: 19 | H9: =IF(G9>15,G9*$S$6,$R$12) -> 3.1666667 | I9: =H9*$S$7 -> 2.2166667 | J9: =H9*$S$8 -> 0.95 | K9: 0.75 | L9: =IF(G9>25,$Q$3,$Q$4) -> 0.5 | M9: 39
A10: StJ. | B10: =Tabelle1!D9 -> Zirgesheimer Str. 15 | C10: =Tabelle1!E9 -> 86609 | D10: =Tabelle1!F9 -> Donauwörth | E10: DON StJ. | F10: Donauwörth | G10: 16 | H10: =IF(G10>15,G10*$S$6,$R$12) -> 2.6666667 | I10: =H10*$S$7 -> 1.8666667 | J10: =H10*$S$8 -> 0.8 | K10: 0.5 | L10: =IF(G10>25,$Q$3,$Q$4) -> 0.5 | M10: 39
A11: BKS | B11: =Tabelle1!D10 -> Augustenstr. 14 | C11: =Tabelle1!E10 -> 87629 | D11: =Tabelle1!F10 -> Füssen | E11: FÜS BKS | F11: Füssen | G11: 15 | H11: =IF(G11>15,G11*$S$6,$R$12) -> 2.5 | I11: =H11*$S$7 -> 1.75 | J11: =H11*$S$8 -> 0.75 | K11: 0 | L11: =IF(G11>25,$Q$3,$Q$4) -> 0.5 | M11: 38.5 | Q11: Mindestbesetzung TS bis 15 Plätze
A12: BKS | B12: =Tabelle1!D11 -> Lindenallee 2 | C12: =Tabelle1!E11 -> 89312 | D12: =Tabelle1!F11 -> Günzburg | E12: GZ BKS | F12: Günzburg | G12: 17 | H12: =IF(G12>15,G12*$S$6,$R$12) -> 2.8333333 | I12: =H12*$S$7 -> 1.9833333 | J12: =H12*$S$8 -> 0.85 | K12: 0.5 | L12: =IF(G12>25,$Q$3,$Q$4) -> 0.5 | M12: 38.5 | Q12: Betreuungspersonal VZÄ | R12: 2.5
A13: DW | B13: =Tabelle1!D12 -> Unterer Graben 7 | C13: =Tabelle1!E12 -> 89257 | D13: =Tabelle1!F12 -> Illertissen | E13: ILL DW | F13: Illertissen | G13: 16 | H13: =IF(G13>15,G13*$S$6,$R$12) -> 2.6666667 | I13: =H13*$S$7 -> 1.8666667 | J13: =H13*$S$8 -> 0.8 | K13: 0.25 | L13: =IF(G13>25,$Q$3,$Q$4) -> 0.5 | M13: 40
A14: DW | B14: =Tabelle1!D13 -> Sonthofener Str. 17 | C14: =Tabelle1!E13 -> 87509 | D14: =Tabelle1!F13 -> Immenstadt | E14: IM DW | F14: Immenstadt | G14: 20 | H14: =IF(G14>15,G14*$S$6,$R$12) -> 3.3333333 | I14: =H14*$S$7 -> 2.3333333 | J14: =H14*$S$8 -> 1 | K14: 0.5 | L14: =IF(G14>25,$Q$3,$Q$4) -> 0.5 | M14: 40
A15: DW | B15: =Tabelle1!D15 -> Bismarckstr. 20 | C15: =Tabelle1!E14 -> 87600 | D15: =Tabelle1!F14 -> Kaufbeuren | E15: KF BKS | F15: Kaufbeuren BKS | G15: 23 | H15: =IF(G15>15,G15*$S$6,$R$12) -> 3.8333333 | I15: =H15*$S$7 -> 2.6833333 | J15: =H15*$S$8 -> 1.15 | K15: 0 | L15: =IF(G15>25,$Q$3,$Q$4) -> 0.5 | M15: 38.5
A16: BKS | B16: =Tabelle1!D14 -> Kemnater Str. 16 | C16: =Tabelle1!E15 -> 87600 | D16: =Tabelle1!F15 -> Kaufbeuren | E16: KF DW | F16: Kaufbeuren DW | G16: 27 | H16: =IF(G16>15,G16*$S$6,$R$12) -> 4.5 | I16: =H16*$S$7 -> 3.15 | J16: =H16*$S$8 -> 1.35 | K16: 0 | L16: =IF(G16>25,$Q$3,$Q$4) -> 0.6 | M16: 40
A17: DW | B17: =Tabelle1!D16 -> St.-Mang-Platz 12 | C17: =Tabelle1!E16 -> 87435 | D17: =Tabelle1!F16 -> Kempten | E17: KE DW | F17: Kempten | G17: 29 | H17: =IF(G17>15,G17*$S$6,$R$12) -> 4.8333333 | I17: =H17*$S$7 -> 3.3833333 | J17: =H17*$S$8 -> 1.45 | K17: 0.75 | L17: =IF(G17>25,$Q$3,$Q$4) -> 0.6 | M17: 40
A18: DW | B18: =Tabelle1!D17 -> Mindelheimer Str. 20 | C18: =Tabelle1!E17 -> 86381 | D18: =Tabelle1!F17 -> Krumbach | E18: KRU BKS | F18: Krumbach | G18: 14 | H18: =IF(G18>15,G18*$S$6,$R$12) -> 2.5 | I18: =H18*$S$7 -> 1.75 | J18: =H18*$S$8 -> 0.75 | K18: 0.5 | L18: =IF(G18>25,$Q$3,$Q$4) -> 0.5 | M18: 38.5
A19: BKS | B19: =Tabelle1!D18 -> Sedanstr. 4 a | C19: =Tabelle1!E18 -> 88161 | D19: =Tabelle1!F18 -> Lindenberg | E19: LI DW | F19: Lindenberg | G19: 16.5 | H19: =IF(G19>15,G19*$S$6,$R$12) -> 2.75 | I19: =H19*$S$7 -> 1.925 | J19: =H19*$S$8 -> 0.825 | K19: 0.25 | L19: =IF(G19>25,$Q$3,$Q$4) -> 0.5 | M19: 40
A20: DW | B20: =Tabelle1!D19 -> Hauptstr. 56 d | C20: =Tabelle1!E19 -> 86405 | D20: =Tabelle1!F19 -> Meitingen | E20: MEI DW | F20: Meitingen | G20: 13 | H20: =IF(G20>15,G20*$S$6,$R$12) -> 2.5 | I20: =H20*$S$7 -> 1.75 | J20: =H20*$S$8 -> 0.75 | K20: 0 | L20: =IF(G20>25,$Q$3,$Q$4) -> 0.5 | M20: 40
A21: DW | B21: =Tabelle1!D20 -> In der Kappel 2 | C21: =Tabelle1!E20 -> 87700 | D21: =Tabelle1!F20 -> Memmingen | E21: MM DW | F21: Memmingen | G21: 23 | H21: =IF(G21>15,G21*$S$6,$R$12) -> 3.8333333 | I21: =H21*$S$7 -> 2.6833333 | J21: =H21*$S$8 -> 1.15 | K21: 0.5 | L21: =IF(G21>25,$Q$3,$Q$4) -> 0.5 | M21: 40
A22: DW | B22: =Tabelle1!D21 -> Herzog-Wilhelm-Str. 1 | C22: =Tabelle1!E21 -> 86415 | D22: =Tabelle1!F21 -> Mering | E22: MER DW | F22: Mering | G22: 15 | H22: =IF(G22>15,G22*$S$6,$R$12) -> 2.5 | I22: =H22*$S$7 -> 1.75 | J22: =H22*$S$8 -> 0.75 | K22: 0 | L22: =IF(G22>25,$Q$3,$Q$4) -> 0.5 | M22: 40
A23: DW | B23: =Tabelle1!D22 -> Hallstattstr. 14 | C23: =Tabelle1!E22 -> 87719 | D23: =Tabelle1!F22 -> Mindelheim | E23: MN DW | F23: Mindelheim | G23: 16 | H23: =IF(G23>15,G23*$S$6,$R$12) -> 2.6666667 | I23: =H23*$S$7 -> 1.8666667 | J23: =H23*$S$8 -> 0.8 | K23: 0.5 | L23: =IF(G23>25,$Q$3,$Q$4) -> 0.5 | M23: 40
A24: DW | B24: =Tabelle1!D23 -> Gartenstraße 20 | C24: =Tabelle1!E23 -> 89231 | D24: =Tabelle1!F23 -> Neu-Ulm | E24: NU DW | F24: Neu-Ulm | G24: 23 | H24: =IF(G24>15,G24*$S$6,$R$12) -> 3.8333333 | I24: =H24*$S$7 -> 2.6833333 | J24: =H24*$S$8 -> 1.15 | K24: 0.5 | L24: =IF(G24>25,$Q$3,$Q$4) -> 0.5 | M24: 40
A25: LH | B25: =Tabelle1!D24 -> Glashütter Str. 2 | C25: =Tabelle1!E24 -> 86720 | D25: =Tabelle1!F24 -> Nördlingen | E25: NÖ LH | F25: Nördlingen | G25: 17 | H25: =IF(G25>15,G25*$S$6,$R$12) -> 2.8333333 | I25: =H25*$S$7 -> 1.9833333 | J25: =H25*$S$8 -> 0.85 | K25: 0.5 | L25: =IF(G25>25,$Q$3,$Q$4) -> 0.5 | M25: 39
A26: DiCV | B26: =Tabelle1!D25 -> Ferdinand-Wagner-Str. 3 | C26: =Tabelle1!E25 -> 86830 | D26: =Tabelle1!F25 -> Schwabmünchen | E26: SMÜ DiCV | F26: Schwabmünchen | G26: 15 | H26: =IF(G26>15,G26*$S$6,$R$12) -> 2.5 | I26: =H26*$S$7 -> 1.75 | J26: =H26*$S$8 -> 0.75 | K26: 0 | L26: =IF(G26>25,$Q$3,$Q$4) -> 0.5 | M26: 39
A27: DiCV | B27: =Tabelle1!D26 -> Augsburger Str. 38 | C27: =Tabelle1!E26 -> 86441 | D27: =Tabelle1!F26 -> Zusmarshausen | E27: ZUS DiCV | F27: Zusmarshausen | G27: 13 | H27: =IF(G27>15,G27*$S$6,$R$12) -> 2.5 | I27: =H27*$S$7 -> 1.75 | J27: =H27*$S$8 -> 0.75 | K27: 0 | L27: =IF(G27>25,$Q$3,$Q$4) -> 0.5 | M27: 39
B28: Bitte wählen | F28: Bitte wählen | G28: 0 | H28: 0 | I28: =H28*$S$7 -> 0 | J28: =H28*$S$8 -> 0 | K28: 0 | L28: 0 | M28: 0
E30: Summe | G30: =SUM(G3:G27) -> 494 | H30: =SUM(H3:H27) -> 83.166667 | I30: =SUM(I3:I27) -> 58.216667 | J30: =SUM(J3:J27) -> 24.95 | K30: =SUM(K3:K27) -> 8.25 | L30: =SUM(L3:L27) -> 13

Sheet Tabelle1
B1: Name | C1: Träger | D1: Anschrift | E1: PLZ | F1: Ort | G1: Telefonnummer | H1: E-Mail | I1: Leitung | J1: Plätze | K1: Träger | L1: Straße | M1: PLZ | N1: Ort
A2: Münchener Str. 19 | B2: Tagesstätte für psychische Gesundheit | C2: Caritasverband für den Landkreis Aichach-Friedberg e. V. | D2: Münchener Str. 19 | E2: 86551 | F2: Aichach | G2: 08251 / 93 46 5 - 27 | H2: tagesstaette@caritas-aichach-friedberg.de | I2: Rosa Straub | J2: =Angaben!G3 -> 17 | K2: Caritasverband für den Landkreis Aichach-Friedberg e. V. | L2: Hermann-Löns- Str. 6 | M2: 86316 | N2: Friedberg
A3: Th.-Wiedemann-Str. 9 | B3: Sozialpsychiatrische Tagesstätte | C3: Caritasverband für die Stadt und den Landkreis Augsburg e.V. | D3: Th.-Wiedemann-Str. 9 | E3: 86161 | F3: Augsburg | G3: 0821 / 43 80 58 3 | H3: tagesstaette@caritas-augsburg-stadt.de | I3: Marcel Terhaag | J3: =Angaben!G6 -> 29 | K3: Caritasverband für die Stadt und den Landkreis Augsburg e.V. | L3: Depotstraße 5 | M3: 86199 | N3: Augsburg
A4: Böheimstr. 6 | B4: Tagesstätte für psychische Gesundheit | C4: Diakonisches Werk Augsburg e.V. | D4: Böheimstr. 6 | E4: 86153 | F4: Augsburg | G4: 0821 / 45019 - 4013 | H4: tagesstaette-augsburg@diakonie-augsburg.de | I4: Carina Gebele | J4: =Angaben!G7 -> 30 | K4: Diakonisches Werk Augsburg e.V | L4: Spenglergäßchen 7a | M4: 86152 | N4: Augsburg
A5: Kirchbergstr. 23 | B5: Tageszentrum für seelische Gesundheit | C5: AWOSANA GmbH | D5: Kirchbergstr. 23 | E5: 86157 | F5: Augsburg | G5: 0821 / 65 07 20 30 | H5: tageszentrum@awo-augsburg.de | I5: Sabine Feyen | J5: =Angaben!G5 -> 30.5 | K5: AWOSANA GmbH | L5: Rosenaustraße 38 | M5: 86150 | N5: Augsburg
A6: Hofrat-Röhrer-Str. 10 ½ | B6: Tagesstätte für alkoholkranke Menschen | C6: Caritasverband für die Stadt und den Landkreis Augsburg e.V. | D6: Hofrat-Röhrer-Str. 10 ½ | E6: 86161 | F6: Augsburg | G6: 0821 / 570 48 -61 | H6: sucht@caritas-augsburg-stadt.de | I6: Marcel Terhaag | J6: =Angaben!G4 -> 20 | K6: Caritasverband für die Stadt und den Landkreis Augsburg e.V. | L6: Depotstraße 5 | M6: 86199 | N6: Augsburg
A7: Heilig-Kreuz-Str. 22 | B7: Tagesstätte für psychische Gesundheit "Pikasso" | C7: Bezirkskliniken Schwaben WOHNEN UND FÖRDERN | D7: Heilig-Kreuz-Str. 22 | E7: 86152 | F7: Augsburg | G7: 0821 / 4803-4600 | H7: PIKASSO@bkh-augsburg.de | I7: Corina Krüger | J7: =Angaben!G8 -> 20 | K7: Bezirkskliniken Schwaben WOHNEN und FÖRDERN
A8: Am Reitweg 2 | B8: Tagesstätte für psychische Gesundheit | C8: Caritasverband für den Landkreis Dillingen/Donau e.V. | D8: Am Reitweg 2 | E8: 89407 | F8: Dillingen | G8: 09071 / 70579-26 | H8: tagesstaette@caritas-dillingen.de | I8: Heidrun Ostertag | J8: =Angaben!G9 -> 19 | K8: Caritasverband für den Landkreis Dillingen/Donau e.V. | L8: Am Reitweg 2 | M8: 89407 | N8: Dillingen/Donau
A9: Zirgesheimer Str. 15 | B9: Tagesstätte für psychische Gesundheit | C9: Stiftung St. Johannes | D9: Zirgesheimer Str. 15 | E9: 86609 | F9: Donauwörth | G9: 0906 / 70 01 03 50 | H9: donauwoerthtagesstaette@sanktjohannes.com | I9: Rebecca Jung | J9: =Angaben!G10 -> 16 | K9: Stiftung Sankt Johannes | L9: Schloßstraße 8 | M9: 86688 | N9: Marxheim
A10: Augustenstr. 14 | B10: Tagesstätte für seelische Gesundheit „Augustenhof“ | C10: Bezirkskliniken Schwaben WOHNEN UND FÖRDERN | D10: Augustenstr. 14 | E10: 87629 | F10: Füssen | G10: 08362 / 30 0 - 41 60 | H10: tagesstaette.fuessen@bezirkskliniken-schwaben.de | I10: Stefan Thiel | J10: 15 | K10: Bezirkskliniken Schwaben | L10: Kemnater Str. 16 | M10: 87600 | N10: Kaufbeuren
A11: Lindenallee 2 | B11: Tagesstätte für seelische Gesundheit „Alte Pforte“ | C11: Bezirkskliniken Schwaben WOHNEN UND FÖRDERN | D11: Lindenallee 2 | E11: 89312 | F11: Günzburg | G11: 08221 / 96 28 31 | H11: tagesstaette.guenzburg@bezirkskliniken-schwaben.de | I11: Christine Bayerle | J11: =Angaben!G12 -> 17 | K11: Bezirkskliniken Schwaben KU | L11: Geschwister-Schönert-Str. 4 | M11: 86156 | N11: Augsburg
A12: Unterer Graben 7 | B12: Tagesstätte für psychische Gesundheit | C12: Diakonisches Werk Neu-Ulm e.V. | D12: Unterer Graben 7 | E12: 89257 | F12: Illertissen | G12: 07303 / 90 66 51 1 | H12: spz.illertissen@diakonie-neu-ulm.de | I12: Till Bauer | J12: =Angaben!G13 -> 16 | K12: Diakonisches Werk Neu-Ulm e.V. | L12: Eckstraße 25 | M12: 89231 | N12: Neu-Ulm
A13: Sonthofener Str. 17 | B13: Tagesstätte für psychische Gesundheit | C13: Diakonie Allgäu e.V. | D13: Sonthofener Str. 17 | E13: 87509 | F13: Immenstadt | G13: 08323 / 99 96 5-0 | H13: spz.oberallgaeu@diakonie-allgaeu.de | I13: Reinhard Kraus | J13: =Angaben!G14 -> 20 | K13: Diakonie Allgäu e. V. | L13: St.-Mang-Platz 12 | M13: 87435 | N13: Kempten
A14: Kemnater Str. 16 | B14: Tagesstätte für seelische Gesundheit „Rösslehaus“ | C14: Bezirkskliniken Schwaben WOHNEN UND FÖRDERN | D14: Kemnater Str. 16 | E14: 87600 | F14: Kaufbeuren | G14: 08341 / 72 45 31 | H14: tagesstaette.kaufbeuren@bezirkskliniken-schwaben.de | I14: Stefan Thiel | J14: =Angaben!G15 -> 23 | K14: Bezirkskliniken Schwaben | L14: Kemnater Str. 16 | M14: 87600 | N14: Kaufbeuren
A15: Bismarckstr. 20 | B15: Tagesstätte für psychische Gesundheit | C15: Diakonisches Werk Augsburg e.V. | D15: Bismarckstr. 20 | E15: 87600 | F15: Kaufbeuren | G15: 08341 / 99 41 92 | H15: tagesstaette-kaufbeuren@diakonie-augsburg.de | I15: Sebastian Klinghammer | J15: =Angaben!G16 -> 27 | K15: Diakonisches Werk Augsburg e.V. | L15: Spenglergäßchen 7a | M15: 86152 | N15: Augsburg
A16: St.-Mang-Platz 12 | B16: Tagesstätte für psychische Gesundheit | C16: Diakonie Allgäu e.V. | D16: St.-Mang-Platz 12 | E16: 87435 | F16: Kempten | G16: 0831 / 54 05 9 - 21 0 | H16: spz.kempten@diakonie-allgaeu.de | I16: Olaf Höck | J16: =Angaben!G17 -> 29 | K16: Diakonie Allgäu e. V. | L16: St.-Mang-Platz 12 | M16: 87435 | N16: Kempten
A17: Mindelheimer Str. 20 | B17: Tagesstätte für seelische Gesundheit “Im Cafe Zott“ | C17: Bezirkskliniken Schwaben WOHNEN UND FÖRDERN | D17: Mindelheimer Str. 20 | E17: 86381 | F17: Krumbach | G17: 08282 / 80 04 37 0 | H17: tagesstaette.krumbach@bezirkskliniken-schwaben.de | I17: Christine Bayerle | J17: =Angaben!G18 -> 14 | K17: Bezirkskliniken Schwaben KU | L17: Geschwister-Schönert-Str. 4 | M17: 86156 | N17: Augsburg
A18: Sedanstr. 4 a | B18: Tagesstätte für psychische Gesundheit | C18: Diakonie Allgäu e.V. | D18: Sedanstr. 4 a | E18: 88161 | F18: Lindenberg | G18: 08381 / 48 86 12 0 | H18: spz.westallgaeu@diakonie-allgaeu.de | I18: Barbara Mendjan | J18: =Angaben!G19 -> 16.5 | K18: Diakonie Allgäu e. V. | L18: St.-Mang-Platz 12 | M18: 87435 | N18: Kempten
A19: Hauptstr. 56 d | B19: Tagesstätte für psychische Gesundheit | C19: Diakonisches Werk Augsburg e.V. | D19: Hauptstr. 56 d | E19: 86405 | F19: Meitingen | G19: 08271 / 42 47 10 | H19: tagesstaette-meitingen@diakonie-augsburg.de | I19: Wolfgang Klaiber-Mehling | J19: =Angaben!G20 -> 13 | K19: Diakonisches Werk Augsburg e.V. | L19: Spenglergäßchen 7a | M19: 86152 | N19: Augsburg
A20: In der Kappel 2 | B20: Tagesstätte für psychische Gesundheit „An der Kappel“ | C20: Diakonie Allgäu e.V. | D20: In der Kappel 2 | E20: 87700 | F20: Memmingen | G20: 08331 / 98 44 4 - 0 | H20: die-kappel@diakonie-allgaeu.de | I20: Rupert Wagner | J20: =Angaben!G21 -> 23 | K20: Diakonie Allgäu e. V. | L20: St.-Mang-Platz 12 | M20: 87435 | N20: Kempten
A21: Herzog-Wilhelm-Str. 1 | B21: Tagesstätte für psychische Gesundheit | C21: Diakonisches Werk Augsburg e.V. | D21: Herzog-Wilhelm-Str. 1 | E21: 86415 | F21: Mering | G21: 08233 / 74 49 60 | H21: tagesstaette-mering@diakonie-augsburg.de | I21: Carina Gebele | J21: =Angaben!G22 -> 15 | K21: Diakonisches Werk Augsburg e.V | L21: Spenglergäßchen 7a | M21: 86152 | N21: Augsburg
A22: Hallstattstr. 14 | B22: Tagesstätte für psychische Gesundheit „DiakoNische“ | C22: Diakonie Allgäu e.V. | D22: Hallstattstr. 14 | E22: 87719 | F22: Mindelheim | G22: 08261 / 9 09 66 - 0 | H22: diako-nische@diakonie-allgaeu.de | I22: Christoph Grauer | J22: =Angaben!G23 -> 16 | K22: Diakonie Allgäu e. V. | L22: St.-Mang-Platz 12 | M22: 87435 | N22: Kempten
... A26: Augsburger Str. 38 | B26: Tagesstätte für seelische Gesundheit | C26: Caritasverband für die Diözese Augsburg e.V. | D26: Augsburger Str. 38 | E26: 86441 | F26: Zusmarshausen | G26: 08291 / 85 94 3 - 50 | H26: c.gross@caritas-augsburg.de | I26: Susanne Grüßhaber | J26: =Angaben!G27 -> 13 | K26: Caritasverband für die Diözese Augsburg e.V. | L26: Auf dem Kreuz 41 | M26: 86152 | N26: Augsburg
A27: Bitte wählen | B27: - | C27: - | D27: Bitte wählen | E27: - | F27: - | G27: - | H27: - | I27: - | J27: - | K27: - | L27: - | M27: - | N27: -
J28: =SUM(J2:J26) -> 494
A36: (1) Zuweiser | B36: (2) Hauptdiagnosen nach ICS 10 | C36: Orte
A37: BKH | B37: F0 | C37: Aichach
A38: ABW | B38: F1 | C38: Augsburg
A39: Arzt | B39: F2 | C39: Dillingen
A40: Internet | B40: F3 | C40: Donauwörth
A41: Jobcenter/Agentur für Arbeit | B41: F4 | C41: Füssen
A42: PSB | B42: F5 | C42: Günzburg
A43: PSY | B43: F6 | C43: Illertissen
A44: Sonstiges | B44: F7 | C44: Immenstadt
A45: soziales Umfeld | B45: unbekannte Diagnose | C45: Kaufbeuren
A46: SPDi | B46: weitere Diagnosen | C46: Kempten
C47: Krumbach
C48: Lindenberg
C49: Meitingen
C50: Memmingen
...
