BEGIN:VCALENDAR
VERSION:2.0
PRODID:-//ddaysoftware.com//NONSGML DDay.iCal 1.0//EN
BEGIN:VTIMEZONE
TZID:W. Europe Standard Time
BEGIN:STANDARD
DTSTART:20251002T030000
RRULE:FREQ=YEARLY;BYDAY=-1SU;BYHOUR=3;BYMINUTE=0;BYMONTH=10
TZNAME:W. Europe Standard Time
TZOFFSETFROM:+0200
TZOFFSETTO:+0100
END:STANDARD
BEGIN:DAYLIGHT
DTSTART:20250301T020000
RRULE:FREQ=YEARLY;BYDAY=-1SU;BYHOUR=2;BYMINUTE=0;BYMONTH=3
TZNAME:W. Europe Daylight Time
TZOFFSETFROM:+0100
TZOFFSETTO:+0200
END:DAYLIGHT
END:VTIMEZONE
BEGIN:VEVENT
CATEGORIES:Bezirkstag
DESCRIPTION:\n\nhttps://www.bezirk-schwaben.de/meta/termine-bezirkstag/term
 ine-bezirkstag-und-verwaltung/175-jahre-psychiatrie-schwaben-auftaktverans
 taltung/
DTEND:20240517T140000
DTSTAMP:20260421T095520Z
DTSTART:20240517T100000
SEQUENCE:0
SUMMARY:175 Jahre Psychiatrie Schwaben: Auftaktveranstaltung
UID:46130
URL:https://www.bezirk-schwaben.de/meta/termine-bezirkstag/termine-bezirkst
 ag-und-verwaltung/175-jahre-psychiatrie-schwaben-auftaktveranstaltung/
END:VEVENT
END:VCALENDAR
